BEGIN:VCALENDAR
VERSION:2.0
PRODID:-//ChamberMaster//Event Calendar 2.0//EN
METHOD:PUBLISH
X-PUBLISHED-TTL:P3D
REFRESH-INTERVAL:P3D
CALSCALE:GREGORIAN
BEGIN:VEVENT
DTSTART;VALUE=DATE:20260622
DTEND;VALUE=DATE:20260623
TRANSP:TRANSPARENT
X-MICROSOFT-CDO-ALLDAYEVENT:TRUE
SUMMARY:2026 Golf Outing Lunch/Dinner tickets and Drone Drop tickets
DESCRIPTION:CLICK the "Register Now" button above to purchase tickets\n\nJoin the fun!  You do not have to be golfing to take part in this exciting event! Purchasing a ticket(s) enters you into one continuous raffle. If you don't win the Drone Drop\, your entry moves to the Restaurant Raffle. Need not be present to win. Please make sure to include your phone number in registration. \n\n\n\n1 ticket $20 \n\n3 tickets $50\n\n7 tickets $100\n\n\n\nLunch $30\n\nDinner $35
X-ALT-DESC;FMTTYPE=text/html:<p style="color: rgb(51\, 51\, 51)\; font-family: sans-serif\, Arial\, Verdana\, &quot\;Trebuchet MS&quot\;\; font-size: 13px\;"><span style="font-size: 14px\;"><span style="font-family: arial\;"><strong>CLICK the &quot\;Register Now&quot\; button above to purchase tickets</strong></span></span><br />\n<span style="color: rgb(0\, 0\, 0)\;">Join the fun!&nbsp\; You do not have to be golfing to take part in this exciting event!&nbsp\;</span>Purchasing a ticket(s)&nbsp\;enters you into one continuous raffle. If you don&rsquo\;t win the Drone Drop\, your entry moves to the Restaurant Raffle. Need not be present to win. Please make sure to include your phone number in registration.&nbsp\;<br />\n<br />\n<span style="color: rgb(0\, 0\, 0)\;">1 ticket&nbsp\;$20&nbsp\;<br />\n3 tickets&nbsp\;$50</span><br />\n<span style="color: rgb(0\, 0\, 0)\;">7 tickets&nbsp\;$100</span><br />\n<br />\n<span style="font-family:arial\;"><span style="color: rgb(68\, 68\, 68)\;">Lunch&nbsp\;$30<br />\nDinner&nbsp\;$35</span></span></p>\n
LOCATION:Belmont Country Club - 29601 Bates Rd\, Perrysburg\, OH 43551
UID:e.2722.695
SEQUENCE:3
DTSTAMP:20260420T223906Z
URL:http://directory.maumeechamber.com/events/details/2026-golf-outing-lunch-dinner-tickets-and-drone-drop-tickets-695
END:VEVENT

END:VCALENDAR
